Package: DeepPINCS Version: 1.14.0 Command: /home/biocbuild/R/R/bin/R CMD check --install=check:DeepPINCS.install-out.txt --library=/home/biocbuild/R/R/site-library --no-vignettes --timings DeepPINCS_1.14.0.tar.gz StartedAt: 2025-04-01 05:41:27 -0000 (Tue, 01 Apr 2025) EndedAt: 2025-04-01 05:43:25 -0000 (Tue, 01 Apr 2025) EllapsedTime: 118.1 seconds RetCode: 0 Status: OK CheckDir: DeepPINCS.Rcheck Warnings: 0