Package: DeepPINCS Version: 1.14.0 Command: /home/biocbuild/R/R/bin/R CMD build --keep-empty-dirs --no-resave-data DeepPINCS StartedAt: 2025-03-31 22:57:24 -0000 (Mon, 31 Mar 2025) EndedAt: 2025-03-31 22:57:58 -0000 (Mon, 31 Mar 2025) EllapsedTime: 34.0 seconds RetCode: 0 Status: OK PackageFile: DeepPINCS_1.14.0.tar.gz PackageFileSize: 2.464 MiB