Package: DeepPINCS Version: 1.14.0 Command: chmod a+r DeepPINCS -R && F:\biocbuild\bbs-3.20-bioc\R\bin\R.exe CMD build --keep-empty-dirs --no-resave-data DeepPINCS StartedAt: 2025-03-31 18:22:16 -0400 (Mon, 31 Mar 2025) EndedAt: 2025-03-31 18:22:51 -0400 (Mon, 31 Mar 2025) EllapsedTime: 35.4 seconds RetCode: 0 Status: OK PackageFile: DeepPINCS_1.14.0.tar.gz PackageFileSize: 2.438 MiB