Package: DeepPINCS Version: 1.14.0 Command: rm -rf DeepPINCS.buildbin-libdir && mkdir DeepPINCS.buildbin-libdir && /Users/biocbuild/BBS/utils/build-universal.sh DeepPINCS_1.14.0.tar.gz /Library/Frameworks/R.framework/Resources/bin/R DeepPINCS.buildbin-libdir StartedAt: 2025-04-01 11:43:50 -0400 (Tue, 01 Apr 2025) EndedAt: 2025-04-01 11:44:28 -0400 (Tue, 01 Apr 2025) EllapsedTime: 37.1 seconds RetCode: 0 Status: OK PackageFile: DeepPINCS_1.14.0.tgz PackageFileSize: 2.913 MiB