Package: DeepPINCS Version: 1.14.0 Command: /Library/Frameworks/R.framework/Resources/bin/R CMD check --install=check:DeepPINCS.install-out.txt --library=/Library/Frameworks/R.framework/Resources/library --no-vignettes --timings DeepPINCS_1.14.0.tar.gz StartedAt: 2025-04-01 16:43:47 -0400 (Tue, 01 Apr 2025) EndedAt: 2025-04-01 16:45:44 -0400 (Tue, 01 Apr 2025) EllapsedTime: 116.8 seconds RetCode: 0 Status: OK CheckDir: DeepPINCS.Rcheck Warnings: 0