Package: DeepPINCS Version: 1.14.0 Command: rm -rf DeepPINCS.buildbin-libdir && mkdir DeepPINCS.buildbin-libdir && /Users/biocbuild/BBS/utils/build-universal.sh DeepPINCS_1.14.0.tar.gz /Library/Frameworks/R.framework/Resources/bin/R DeepPINCS.buildbin-libdir StartedAt: 2025-04-02 14:01:09 -0400 (Wed, 02 Apr 2025) EndedAt: 2025-04-02 14:01:35 -0400 (Wed, 02 Apr 2025) EllapsedTime: 25.9 seconds RetCode: 0 Status: OK PackageFile: DeepPINCS_1.14.0.tgz PackageFileSize: 2.235 MiB