Package: DeMixT Version: 1.22.0 Command: /Library/Frameworks/R.framework/Resources/bin/R CMD build --keep-empty-dirs --no-resave-data DeMixT StartedAt: 2025-03-31 22:17:16 -0400 (Mon, 31 Mar 2025) EndedAt: 2025-03-31 22:18:45 -0400 (Mon, 31 Mar 2025) EllapsedTime: 89.5 seconds RetCode: 0 Status: OK PackageFile: DeMixT_1.22.0.tar.gz PackageFileSize: 6.072 MiB