Package: DeMAND Version: 1.36.0 Command: /home/biocbuild/R/R/bin/R CMD build --keep-empty-dirs --no-resave-data DeMAND StartedAt: 2025-03-31 23:00:25 -0000 (Mon, 31 Mar 2025) EndedAt: 2025-03-31 23:00:32 -0000 (Mon, 31 Mar 2025) EllapsedTime: 7.0 seconds RetCode: 0 Status: OK PackageFile: DeMAND_1.36.0.tar.gz PackageFileSize: 311 KiB