Package: Damsel Version: 1.2.0 Command: /Library/Frameworks/R.framework/Resources/bin/R CMD check --install=check:Damsel.install-out.txt --library=/Library/Frameworks/R.framework/Resources/library --no-vignettes --timings Damsel_1.2.0.tar.gz StartedAt: 2025-04-01 01:40:16 -0400 (Tue, 01 Apr 2025) EndedAt: 2025-04-01 01:47:53 -0400 (Tue, 01 Apr 2025) EllapsedTime: 457.0 seconds RetCode: 0 Status: OK CheckDir: Damsel.Rcheck Warnings: 0