Package: DaMiRseq Version: 2.18.0 Command: chmod a+r DaMiRseq -R && F:\biocbuild\bbs-3.20-bioc\R\bin\R.exe CMD build --keep-empty-dirs --no-resave-data DaMiRseq StartedAt: 2025-03-31 18:19:35 -0400 (Mon, 31 Mar 2025) EndedAt: 2025-03-31 18:30:00 -0400 (Mon, 31 Mar 2025) EllapsedTime: 625.8 seconds RetCode: 0 Status: OK PackageFile: DaMiRseq_2.18.0.tar.gz PackageFileSize: 4.222 MiB