Package: DTA Version: 2.52.0 Command: /home/biocbuild/bbs-3.20-bioc/R/bin/R CMD build --keep-empty-dirs --no-resave-data --md5 DTA StartedAt: 2025-03-31 17:06:11 -0400 (Mon, 31 Mar 2025) EndedAt: 2025-03-31 17:10:54 -0400 (Mon, 31 Mar 2025) EllapsedTime: 282.4 seconds RetCode: 0 Status: OK PackageFile: DTA_2.52.0.tar.gz PackageFileSize: 11.18 MiB