Package: DTA Version: 2.52.0 Command: /Library/Frameworks/R.framework/Resources/bin/R CMD check --install=check:DTA.install-out.txt --library=/Library/Frameworks/R.framework/Resources/library --no-vignettes --timings DTA_2.52.0.tar.gz StartedAt: 2025-04-01 17:54:37 -0400 (Tue, 01 Apr 2025) EndedAt: 2025-04-01 17:58:19 -0400 (Tue, 01 Apr 2025) EllapsedTime: 221.9 seconds RetCode: 0 Status: OK CheckDir: DTA.Rcheck Warnings: 0