Package: DSS Version: 2.54.0 Command: /Library/Frameworks/R.framework/Resources/bin/R CMD check --install=check:DSS.install-out.txt --library=/Library/Frameworks/R.framework/Resources/library --no-vignettes --timings DSS_2.54.0.tar.gz StartedAt: 2025-04-01 02:24:36 -0400 (Tue, 01 Apr 2025) EndedAt: 2025-04-01 02:34:20 -0400 (Tue, 01 Apr 2025) EllapsedTime: 583.5 seconds RetCode: 0 Status: WARNINGS CheckDir: DSS.Rcheck Warnings: 1