Package: DRIMSeq Version: 1.34.0 Command: chmod a+r DRIMSeq -R && F:\biocbuild\bbs-3.20-bioc\R\bin\R.exe CMD build --keep-empty-dirs --no-resave-data DRIMSeq StartedAt: 2025-03-31 18:36:02 -0400 (Mon, 31 Mar 2025) EndedAt: 2025-03-31 18:39:32 -0400 (Mon, 31 Mar 2025) EllapsedTime: 210.2 seconds RetCode: 0 Status: OK PackageFile: DRIMSeq_1.34.0.tar.gz PackageFileSize: 483.4 KiB