Package: DOSE Version: 4.0.1 Command: /home/biocbuild/R/R/bin/R CMD INSTALL DOSE StartedAt: 2025-03-31 20:52:59 -0000 (Mon, 31 Mar 2025) EndedAt: 2025-03-31 20:53:30 -0000 (Mon, 31 Mar 2025) EllapsedTime: 31.2 seconds RetCode: 0 Status: OK