Package: DOSE Version: 4.0.1 Command: /home/biocbuild/R/R/bin/R CMD check --install=check:DOSE.install-out.txt --library=/home/biocbuild/R/R/site-library --no-vignettes --timings DOSE_4.0.1.tar.gz StartedAt: 2025-04-01 06:01:17 -0000 (Tue, 01 Apr 2025) EndedAt: 2025-04-01 06:04:51 -0000 (Tue, 01 Apr 2025) EllapsedTime: 214.2 seconds RetCode: 0 Status: OK CheckDir: DOSE.Rcheck Warnings: 0