Package: DOSE Version: 4.0.1 Command: /home/biocbuild/R/R/bin/R CMD build --keep-empty-dirs --no-resave-data DOSE StartedAt: 2025-03-31 23:10:34 -0000 (Mon, 31 Mar 2025) EndedAt: 2025-03-31 23:11:17 -0000 (Mon, 31 Mar 2025) EllapsedTime: 43.0 seconds RetCode: 0 Status: OK PackageFile: DOSE_4.0.1.tar.gz PackageFileSize: 5.48 MiB