Package: DOSE Version: 4.0.1 Command: F:\biocbuild\bbs-3.20-bioc\R\bin\R.exe CMD INSTALL DOSE StartedAt: 2025-03-31 16:33:42 -0400 (Mon, 31 Mar 2025) EndedAt: 2025-03-31 16:34:19 -0400 (Mon, 31 Mar 2025) EllapsedTime: 36.2 seconds RetCode: 0 Status: OK