Package: DOSE Version: 4.0.1 Command: F:\biocbuild\bbs-3.20-bioc\R\bin\R.exe CMD check --no-multiarch --install=check:DOSE.install-out.txt --library=F:\biocbuild\bbs-3.20-bioc\R\library --no-vignettes --timings DOSE_4.0.1.tar.gz StartedAt: 2025-04-01 01:04:55 -0400 (Tue, 01 Apr 2025) EndedAt: 2025-04-01 01:08:31 -0400 (Tue, 01 Apr 2025) EllapsedTime: 216.1 seconds RetCode: 0 Status: OK CheckDir: DOSE.Rcheck Warnings: 0