Package: DOSE Version: 4.0.1 Command: chmod a+r DOSE -R && F:\biocbuild\bbs-3.20-bioc\R\bin\R.exe CMD build --keep-empty-dirs --no-resave-data DOSE StartedAt: 2025-03-31 18:34:56 -0400 (Mon, 31 Mar 2025) EndedAt: 2025-03-31 18:35:50 -0400 (Mon, 31 Mar 2025) EllapsedTime: 54.4 seconds RetCode: 0 Status: OK PackageFile: DOSE_4.0.1.tar.gz PackageFileSize: 5.479 MiB