Package: DOSE Version: 4.0.1 Command: rm -rf DOSE.buildbin-libdir && mkdir DOSE.buildbin-libdir && F:\biocbuild\bbs-3.20-bioc\R\bin\R.exe CMD INSTALL --build --library=DOSE.buildbin-libdir DOSE_4.0.1.tar.gz StartedAt: 2025-04-01 08:06:42 -0400 (Tue, 01 Apr 2025) EndedAt: 2025-04-01 08:07:25 -0400 (Tue, 01 Apr 2025) EllapsedTime: 42.2 seconds RetCode: 0 Status: OK PackageFile: DOSE_4.0.1.zip PackageFileSize: 5.864 MiB