Package: DOSE Version: 4.0.1 Command: /home/biocbuild/bbs-3.20-bioc/R/bin/R CMD INSTALL DOSE StartedAt: 2025-03-31 15:44:11 -0400 (Mon, 31 Mar 2025) EndedAt: 2025-03-31 15:44:34 -0400 (Mon, 31 Mar 2025) EllapsedTime: 22.9 seconds RetCode: 0 Status: OK