Package: DOSE Version: 4.0.1 Command: /home/biocbuild/bbs-3.20-bioc/R/bin/R CMD build --keep-empty-dirs --no-resave-data --md5 DOSE StartedAt: 2025-03-31 17:05:09 -0400 (Mon, 31 Mar 2025) EndedAt: 2025-03-31 17:05:41 -0400 (Mon, 31 Mar 2025) EllapsedTime: 32.0 seconds RetCode: 0 Status: OK PackageFile: DOSE_4.0.1.tar.gz PackageFileSize: 5.482 MiB