Package: DOSE Version: 4.0.1 Command: /Library/Frameworks/R.framework/Resources/bin/R CMD INSTALL DOSE StartedAt: 2025-03-31 16:08:09 -0400 (Mon, 31 Mar 2025) EndedAt: 2025-03-31 16:09:00 -0400 (Mon, 31 Mar 2025) EllapsedTime: 51.4 seconds RetCode: 0 Status: OK