Package: DOSE Version: 4.0.1 Command: rm -rf DOSE.buildbin-libdir && mkdir DOSE.buildbin-libdir && /Users/biocbuild/BBS/utils/build-universal.sh DOSE_4.0.1.tar.gz /Library/Frameworks/R.framework/Resources/bin/R DOSE.buildbin-libdir StartedAt: 2025-04-01 11:47:47 -0400 (Tue, 01 Apr 2025) EndedAt: 2025-04-01 11:48:38 -0400 (Tue, 01 Apr 2025) EllapsedTime: 51.8 seconds RetCode: 0 Status: OK PackageFile: DOSE_4.0.1.tgz PackageFileSize: 5.861 MiB