Package: DOSE Version: 4.0.1 Command: rm -rf DOSE.buildbin-libdir && mkdir DOSE.buildbin-libdir && /Users/biocbuild/BBS/utils/build-universal.sh DOSE_4.0.1.tar.gz /Library/Frameworks/R.framework/Resources/bin/R DOSE.buildbin-libdir StartedAt: 2025-04-02 14:09:42 -0400 (Wed, 02 Apr 2025) EndedAt: 2025-04-02 14:10:11 -0400 (Wed, 02 Apr 2025) EllapsedTime: 28.5 seconds RetCode: 0 Status: OK PackageFile: DOSE_4.0.1.tgz PackageFileSize: 5.861 MiB