Package: DOSE Version: 4.0.1 Maintainer: Guangchuang Yu MaintainerEmail: guangchuangyu at gmail.com git_url: https://git.bioconductor.org/packages/DOSE git_branch: RELEASE_3_20 git_last_commit: cc63eec git_last_commit_date: 2025-03-24 22:45:56 -0400 (Mon, 24 Mar 2025)