Package: DNAcopy Version: 1.80.0 Command: /Library/Frameworks/R.framework/Resources/bin/R CMD build --keep-empty-dirs --no-resave-data DNAcopy StartedAt: 2025-03-31 18:24:12 -0400 (Mon, 31 Mar 2025) EndedAt: 2025-03-31 18:24:49 -0400 (Mon, 31 Mar 2025) EllapsedTime: 36.4 seconds RetCode: 0 Status: OK PackageFile: DNAcopy_1.80.0.tar.gz PackageFileSize: 404.7 KiB