Package: DNABarcodes Version: 1.36.0 Command: /home/biocbuild/R/R/bin/R CMD INSTALL DNABarcodes StartedAt: 2025-03-31 20:51:27 -0000 (Mon, 31 Mar 2025) EndedAt: 2025-03-31 20:53:10 -0000 (Mon, 31 Mar 2025) EllapsedTime: 102.5 seconds RetCode: 0 Status: OK