Package: DNABarcodes Version: 1.36.0 Command: /Library/Frameworks/R.framework/Resources/bin/R CMD INSTALL DNABarcodes StartedAt: 2025-03-31 17:05:57 -0400 (Mon, 31 Mar 2025) EndedAt: 2025-03-31 17:06:59 -0400 (Mon, 31 Mar 2025) EllapsedTime: 62.0 seconds RetCode: 0 Status: OK