Package: DNABarcodes Version: 1.36.0 Command: /Library/Frameworks/R.framework/Resources/bin/R CMD build --keep-empty-dirs --no-resave-data DNABarcodes StartedAt: 2025-03-31 22:41:38 -0400 (Mon, 31 Mar 2025) EndedAt: 2025-03-31 22:43:01 -0400 (Mon, 31 Mar 2025) EllapsedTime: 82.3 seconds RetCode: 0 Status: OK PackageFile: DNABarcodes_1.36.0.tar.gz PackageFileSize: 347.9 KiB