Package: DNABarcodeCompatibility Version: 1.22.0 Command: /home/biocbuild/R/R/bin/R CMD INSTALL DNABarcodeCompatibility StartedAt: 2025-03-31 21:10:57 -0000 (Mon, 31 Mar 2025) EndedAt: 2025-03-31 21:11:47 -0000 (Mon, 31 Mar 2025) EllapsedTime: 50.0 seconds RetCode: 0 Status: OK