Package: DMRScan Version: 1.28.0 Command: chmod a+r DMRScan -R && F:\biocbuild\bbs-3.20-bioc\R\bin\R.exe CMD build --keep-empty-dirs --no-resave-data DMRScan StartedAt: 2025-03-31 18:33:08 -0400 (Mon, 31 Mar 2025) EndedAt: 2025-03-31 18:34:53 -0400 (Mon, 31 Mar 2025) EllapsedTime: 105.4 seconds RetCode: 0 Status: OK PackageFile: DMRScan_1.28.0.tar.gz PackageFileSize: 3.347 MiB