Package: DMRScan Version: 1.28.0 Command: rm -rf DMRScan.buildbin-libdir && mkdir DMRScan.buildbin-libdir && F:\biocbuild\bbs-3.20-bioc\R\bin\R.exe CMD INSTALL --build --library=DMRScan.buildbin-libdir DMRScan_1.28.0.tar.gz StartedAt: 2025-04-01 08:06:06 -0400 (Tue, 01 Apr 2025) EndedAt: 2025-04-01 08:06:29 -0400 (Tue, 01 Apr 2025) EllapsedTime: 23.5 seconds RetCode: 0 Status: OK PackageFile: DMRScan_1.28.0.zip PackageFileSize: 5.08 MiB