Package: DMRScan Version: 1.28.0 Command: /home/biocbuild/bbs-3.20-bioc/R/bin/R CMD INSTALL DMRScan StartedAt: 2025-03-31 15:15:07 -0400 (Mon, 31 Mar 2025) EndedAt: 2025-03-31 15:15:21 -0400 (Mon, 31 Mar 2025) EllapsedTime: 13.9 seconds RetCode: 0 Status: OK