Package: DMCFB Version: 1.20.0 Command: /home/biocbuild/R/R/bin/R CMD INSTALL DMCFB StartedAt: 2025-03-31 20:30:07 -0000 (Mon, 31 Mar 2025) EndedAt: 2025-03-31 20:30:53 -0000 (Mon, 31 Mar 2025) EllapsedTime: 45.8 seconds RetCode: 0 Status: OK