Package: DMCFB Version: 1.20.0 Command: /Library/Frameworks/R.framework/Resources/bin/R CMD INSTALL DMCFB StartedAt: 2025-03-31 15:31:07 -0400 (Mon, 31 Mar 2025) EndedAt: 2025-03-31 15:32:27 -0400 (Mon, 31 Mar 2025) EllapsedTime: 80.7 seconds RetCode: 0 Status: OK