Package: DMCFB Version: 1.20.0 Command: /Library/Frameworks/R.framework/Resources/bin/R CMD build --keep-empty-dirs --no-resave-data DMCFB StartedAt: 2025-03-31 18:21:50 -0400 (Mon, 31 Mar 2025) EndedAt: 2025-03-31 18:25:23 -0400 (Mon, 31 Mar 2025) EllapsedTime: 212.5 seconds RetCode: 0 Status: OK PackageFile: DMCFB_1.20.0.tar.gz PackageFileSize: 1.067 MiB