Package: DIAlignR Version: 2.14.0 Command: /home/biocbuild/R/R/bin/R CMD INSTALL DIAlignR StartedAt: 2025-03-31 20:36:12 -0000 (Mon, 31 Mar 2025) EndedAt: 2025-03-31 20:37:37 -0000 (Mon, 31 Mar 2025) EllapsedTime: 85.8 seconds RetCode: 0 Status: OK