Package: DIAlignR Version: 2.14.0 Command: F:\biocbuild\bbs-3.20-bioc\R\bin\R.exe CMD INSTALL DIAlignR StartedAt: 2025-03-31 15:44:53 -0400 (Mon, 31 Mar 2025) EndedAt: 2025-03-31 15:47:18 -0400 (Mon, 31 Mar 2025) EllapsedTime: 145.2 seconds RetCode: 0 Status: OK