Package: DFplyr Version: 1.0.0 Command: /home/biocbuild/bbs-3.20-bioc/R/bin/R CMD check --install=check:DFplyr.install-out.txt --library=/home/biocbuild/bbs-3.20-bioc/R/site-library --timings DFplyr_1.0.0.tar.gz StartedAt: 2025-03-31 21:36:37 -0400 (Mon, 31 Mar 2025) EndedAt: 2025-03-31 21:37:35 -0400 (Mon, 31 Mar 2025) EllapsedTime: 58.1 seconds RetCode: 0 Status: OK CheckDir: DFplyr.Rcheck Warnings: 0