Package: DExMA Version: 1.14.0 Command: F:\biocbuild\bbs-3.20-bioc\R\bin\R.exe CMD INSTALL DExMA StartedAt: 2025-03-31 16:46:14 -0400 (Mon, 31 Mar 2025) EndedAt: 2025-03-31 16:46:59 -0400 (Mon, 31 Mar 2025) EllapsedTime: 45.0 seconds RetCode: 0 Status: OK