Package: DExMA Version: 1.14.0 Command: /Library/Frameworks/R.framework/Resources/bin/R CMD INSTALL DExMA StartedAt: 2025-03-31 17:30:50 -0400 (Mon, 31 Mar 2025) EndedAt: 2025-03-31 17:31:28 -0400 (Mon, 31 Mar 2025) EllapsedTime: 38.2 seconds RetCode: 0 Status: OK