Package: DEsubs Version: 1.32.0 Command: /home/biocbuild/R/R/bin/R CMD INSTALL DEsubs StartedAt: 2025-03-31 20:51:16 -0000 (Mon, 31 Mar 2025) EndedAt: 2025-03-31 20:51:51 -0000 (Mon, 31 Mar 2025) EllapsedTime: 34.6 seconds RetCode: 0 Status: OK