Package: DEsubs Version: 1.32.0 Command: /Library/Frameworks/R.framework/Resources/bin/R CMD INSTALL DEsubs StartedAt: 2025-03-31 16:05:08 -0400 (Mon, 31 Mar 2025) EndedAt: 2025-03-31 16:06:06 -0400 (Mon, 31 Mar 2025) EllapsedTime: 58.1 seconds RetCode: 0 Status: OK