Package: DEsubs Version: 1.32.0 Command: /Library/Frameworks/R.framework/Resources/bin/R CMD check --install=check:DEsubs.install-out.txt --library=/Library/Frameworks/R.framework/Resources/library --no-vignettes --timings DEsubs_1.32.0.tar.gz StartedAt: 2025-04-01 17:17:29 -0400 (Tue, 01 Apr 2025) EndedAt: 2025-04-01 17:21:10 -0400 (Tue, 01 Apr 2025) EllapsedTime: 221.0 seconds RetCode: 0 Status: WARNINGS CheckDir: DEsubs.Rcheck Warnings: 1