Package: DEsingle Version: 1.26.0 Command: /Library/Frameworks/R.framework/Resources/bin/R CMD INSTALL DEsingle StartedAt: 2025-03-31 17:22:52 -0400 (Mon, 31 Mar 2025) EndedAt: 2025-03-31 17:23:01 -0400 (Mon, 31 Mar 2025) EllapsedTime: 9.3 seconds RetCode: 0 Status: OK