Package: DEXSeq Version: 1.52.0 Command: /home/biocbuild/R/R/bin/R CMD check --install=check:DEXSeq.install-out.txt --library=/home/biocbuild/R/R/site-library --no-vignettes --timings DEXSeq_1.52.0.tar.gz StartedAt: 2025-04-01 05:51:59 -0000 (Tue, 01 Apr 2025) EndedAt: 2025-04-01 05:58:30 -0000 (Tue, 01 Apr 2025) EllapsedTime: 390.5 seconds RetCode: 0 Status: OK CheckDir: DEXSeq.Rcheck Warnings: 0