Package: DEXSeq Version: 1.52.0 Command: /home/biocbuild/R/R/bin/R CMD build --keep-empty-dirs --no-resave-data DEXSeq StartedAt: 2025-03-31 23:04:57 -0000 (Mon, 31 Mar 2025) EndedAt: 2025-03-31 23:07:21 -0000 (Mon, 31 Mar 2025) EllapsedTime: 144.1 seconds RetCode: 0 Status: OK PackageFile: DEXSeq_1.52.0.tar.gz PackageFileSize: 897.9 KiB