Package: DEXSeq Version: 1.52.0 Command: F:\biocbuild\bbs-3.20-bioc\R\bin\R.exe CMD INSTALL DEXSeq StartedAt: 2025-03-31 16:45:24 -0400 (Mon, 31 Mar 2025) EndedAt: 2025-03-31 16:46:20 -0400 (Mon, 31 Mar 2025) EllapsedTime: 55.9 seconds RetCode: 0 Status: OK